BEGIN:VCALENDAR
VERSION:2.0
PRODID:-//Ethical Humanist Society of Asheville - ECPv6.14.2//NONSGML v1.0//EN
CALSCALE:GREGORIAN
METHOD:PUBLISH
X-WR-CALNAME:Ethical Humanist Society of Asheville
X-ORIGINAL-URL:https://ehsasheville.org
X-WR-CALDESC:Events for Ethical Humanist Society of Asheville
REFRESH-INTERVAL;VALUE=DURATION:PT1H
X-Robots-Tag:noindex
X-PUBLISHED-TTL:PT1H
BEGIN:VTIMEZONE
TZID:America/New_York
BEGIN:DAYLIGHT
TZOFFSETFROM:-0500
TZOFFSETTO:-0400
TZNAME:EDT
DTSTART:20240310T070000
END:DAYLIGHT
BEGIN:STANDARD
TZOFFSETFROM:-0400
TZOFFSETTO:-0500
TZNAME:EST
DTSTART:20241103T060000
END:STANDARD
BEGIN:DAYLIGHT
TZOFFSETFROM:-0500
TZOFFSETTO:-0400
TZNAME:EDT
DTSTART:20250309T070000
END:DAYLIGHT
BEGIN:STANDARD
TZOFFSETFROM:-0400
TZOFFSETTO:-0500
TZNAME:EST
DTSTART:20251102T060000
END:STANDARD
BEGIN:DAYLIGHT
TZOFFSETFROM:-0500
TZOFFSETTO:-0400
TZNAME:EDT
DTSTART:20260308T070000
END:DAYLIGHT
BEGIN:STANDARD
TZOFFSETFROM:-0400
TZOFFSETTO:-0500
TZNAME:EST
DTSTART:20261101T060000
END:STANDARD
END:VTIMEZONE
BEGIN:VEVENT
DTSTART;TZID=America/New_York:20241006T143000
DTEND;TZID=America/New_York:20241006T160000
DTSTAMP:20260421T174947
CREATED:20220630T152818Z
LAST-MODIFIED:20240901T050248Z
UID:1066-1728225000-1728230400@ehsasheville.org
SUMMARY:Colloquy
DESCRIPTION:Colloquy is an opportunity to explore and reflect on a particular aspect of life in a structured and facilitated small-group setting in a nonjudgmental\, confidential atmosphere. It is held on the First Sunday of the month from 2:30 to 4:00 pm. During the COVID-19 pandemic\, we will meet online -live!  Join on Zoom \nColloquy was created more than 25 years ago by Arthur Dobrin (now Leader Emeritus of the Ethical Society of Long Island) and brought to Asheville by Joy McConnell\, Consulting Leader for the Ethical Humanist Society of Asheville. Colloquy inspires participants to raise awareness of their own views\, emotions and values. Guided by a facilitator\, participants sit in a circle\, listen to a topic read by the leader\, and take turns sharing responses – speaking from personal experiences\, thoughts and feelings. \nExamples of recent topics include: honesty\, friendship\, generosity\, anger\, forgiveness\, music that defines us\, “This I Believe.” \nVisitors are welcome. Come join us!
URL:https://ehsasheville.org/event/colloquy-2024-10-06/
LOCATION:Zoom
CATEGORIES:Colloquy
ATTACH;FMTTYPE=image/png:https://ehsasheville.org/wp-content/uploads/2022/06/Hands-800x450-1.png
END:VEVENT
BEGIN:VEVENT
DTSTART;TZID=America/New_York:20260201T143000
DTEND;TZID=America/New_York:20260201T160000
DTSTAMP:20260421T174947
CREATED:02020111T155620Z
LAST-MODIFIED:20260131T232805Z
UID:1274-1769956200-1769961600@ehsasheville.org
SUMMARY:Colloquy
DESCRIPTION:Zoom Only (Because of bad weather!) We will meet from 2:30 to 4:00 PM. \nColloquy is an opportunity to explore and reflect on a particular aspect of life in a structured and facilitated small-group setting in a nonjudgmental\, confidential atmosphere. \nThe topic for 2/1/2026 is “Embodying Resilience” \nColloquy was created more than 25 years ago by Arthur Dobrin (now Leader Emeritus of the Ethical Society of Long Island) and brought to Asheville by Joy McConnell\, Consulting Leader for the Ethical Humanist Society of Asheville. Colloquy inspires participants to raise awareness of their own views\, emotions and values. Guided by a facilitator\, participants sit in a circle\, listen to a topic read by the leader\, and take turns sharing responses – speaking from personal experiences\, thoughts and feelings. \nExamples of recent topics include: resistance\, honesty\, friendship\, generosity\, anger\, forgiveness\, deep listening\, living with intention\, perfection\, pluralism\,  renewal\, uniqueness\, possibility . . . \nVisitors are welcome. Come join us!
URL:https://ehsasheville.org/event/colloquy-2026-02-01/
LOCATION:Zoom
CATEGORIES:Colloquy
ATTACH;FMTTYPE=image/png:https://ehsasheville.org/wp-content/uploads/2022/06/Hands-800x450-1.png
END:VEVENT
BEGIN:VEVENT
DTSTART;TZID=America/New_York:20260301T143000
DTEND;TZID=America/New_York:20260301T160000
DTSTAMP:20260421T174947
CREATED:02020111T155620Z
LAST-MODIFIED:20260111T165608Z
UID:1285-1772375400-1772380800@ehsasheville.org
SUMMARY:Colloquy
DESCRIPTION:Colloquy in person is back! We will meet from 2:30 to 4:00 PM at the Friends Meeting House\, 227 Edgewood Road\, Asheville. \nColloquy is an opportunity to explore and reflect on a particular aspect of life in a structured and facilitated small-group setting in a nonjudgmental\, confidential atmosphere. \nColloquy was created more than 25 years ago by Arthur Dobrin (now Leader Emeritus of the Ethical Society of Long Island) and brought to Asheville by Joy McConnell\, Consulting Leader for the Ethical Humanist Society of Asheville. Colloquy inspires participants to raise awareness of their own views\, emotions and values. Guided by a facilitator\, participants sit in a circle\, listen to a topic read by the leader\, and take turns sharing responses – speaking from personal experiences\, thoughts and feelings. \nExamples of recent topics include: resistance\, honesty\, friendship\, generosity\, anger\, forgiveness\, deep listening\, living with intention\, perfection\, pluralism\,  renewal\, uniqueness\, possibility . . . \nVisitors are welcome. Come join us!
URL:https://ehsasheville.org/event/colloquy-2026-03-01/
LOCATION:Friends Meeting House\, 227 Edgewood Rd\, Asheville\, NC
CATEGORIES:Colloquy
ATTACH;FMTTYPE=image/jpeg:https://ehsasheville.org/wp-content/uploads/2022/06/Chihuli-3.jpg
END:VEVENT
BEGIN:VEVENT
DTSTART;TZID=America/New_York:20260405T143000
DTEND;TZID=America/New_York:20260405T160000
DTSTAMP:20260421T174947
CREATED:02020111T155620Z
LAST-MODIFIED:20260111T170100Z
UID:1291-1775399400-1775404800@ehsasheville.org
SUMMARY:Colloquy
DESCRIPTION:Colloquy in person is back! We will meet from 2:30 to 4:00 PM at the Friends Meeting House\, 227 Edgewood Road\, Asheville. \nColloquy is an opportunity to explore and reflect on a particular aspect of life in a structured and facilitated small-group setting in a nonjudgmental\, confidential atmosphere. \nColloquy was created more than 25 years ago by Arthur Dobrin (now Leader Emeritus of the Ethical Society of Long Island) and brought to Asheville by Joy McConnell\, Consulting Leader for the Ethical Humanist Society of Asheville. Colloquy inspires participants to raise awareness of their own views\, emotions and values. Guided by a facilitator\, participants sit in a circle\, listen to a topic read by the leader\, and take turns sharing responses – speaking from personal experiences\, thoughts and feelings. \nExamples of recent topics include: resistance\, honesty\, friendship\, generosity\, anger\, forgiveness\, deep listening\, living with intention\, perfection\, pluralism\,  renewal\, uniqueness\, possibility . . . \nVisitors are welcome. Come join us!
URL:https://ehsasheville.org/event/colloquy-2026-04-05/
LOCATION:Friends Meeting House\, 227 Edgewood Rd\, Asheville\, NC
CATEGORIES:Colloquy
ATTACH;FMTTYPE=image/jpeg:https://ehsasheville.org/wp-content/uploads/2022/06/Chairs-800-x-450.jpg
END:VEVENT
END:VCALENDAR